BEGIN:VCALENDAR
PRODID:-//github.com/rianjs/ical.net//NONSGML ical.net 4.0//EN
VERSION:2.0
BEGIN:VEVENT
DESCRIPTION:8. trinn: Nasjonal prøve i lesing
DTEND:20190906T235959
DTSTAMP:20260419T134418Z
DTSTART;VALUE=DATE:20190906
SEQUENCE:0
SUMMARY:8. trinn: Nasjonal prøve i lesing
UID:ab36a1cd-3fb3-4aa1-b455-f55144469402
END:VEVENT
END:VCALENDAR
